BEGIN:VCALENDAR
VERSION:2.0
PRODID:-//Pastor Maximo Gil - ECPv6.15.18//NONSGML v1.0//EN
CALSCALE:GREGORIAN
METHOD:PUBLISH
X-WR-CALNAME:Pastor Maximo Gil
X-ORIGINAL-URL:https://www.maximogil.org
X-WR-CALDESC:Eventos para Pastor Maximo Gil
REFRESH-INTERVAL;VALUE=DURATION:PT1H
X-Robots-Tag:noindex
X-PUBLISHED-TTL:PT1H
BEGIN:VTIMEZONE
TZID:UTC
BEGIN:STANDARD
TZOFFSETFROM:+0000
TZOFFSETTO:+0000
TZNAME:UTC
DTSTART:20230101T000000
END:STANDARD
END:VTIMEZONE
BEGIN:VEVENT
DTSTART;TZID=UTC:20241102T090000
DTEND;TZID=UTC:20250607T150000
DTSTAMP:20260419T130842
CREATED:20200504T180129Z
LAST-MODIFIED:20241025T002705Z
UID:23679-1730538000-1749308400@www.maximogil.org
SUMMARY:AYUNO Y ORACIÓN
DESCRIPTION:AYUNO Y ORACIÓN\nLa oración y el ayuno son una de las formas principales de desarrollar intimidad con Dios. La oración de un justo es poderosa y eficaz y el ayuno pudre yugos y nos revela el corazón y los deseos del Padre\, estas son unas de las armas principales del creyente. \nPodemos estar confiados porque Dios siempre oye la oración de aquellos que se le acercan con humildad. «Por nada estéis afanosos\, sino sean conocidas vuestras peticiones delante de Dios en toda oración y ruego\, con acción de gracias. Y la paz de Dios\, que sobrepasa todo entendimiento\, guardará vuestros corazones y vuestros pensamientos en Cristo Jesús». Filipenses 4:6-7
URL:https://www.maximogil.org/events/ayuno-y-oracion-4/
LOCATION:Nuestra Iglesia\, Iglesia Cristiana Arequipa\, Cerro Colorado\, AREQUIPA\, 04017\, Perú
CATEGORIES:Eventos de Fé
ATTACH;FMTTYPE=image/png:https://www.maximogil.org/wp-content/uploads/2020/05/AYUNO-MES-DE-MARXO.png
ORGANIZER;CN="Iglesia":MAILTO:I.F.DobleA.Ar@hotmail.com
END:VEVENT
BEGIN:VEVENT
DTSTART;TZID=UTC:20241028T040000
DTEND;TZID=UTC:20241028T060000
DTSTAMP:20260419T130842
CREATED:20220914T145147Z
LAST-MODIFIED:20241025T002923Z
UID:23159-1730088000-1730095200@www.maximogil.org
SUMMARY:Oración de Madrugada
DESCRIPTION:EL PODER DE LA ORACIÓN EN LAS MADRUGADAS\nNormalmente\, la madrugada es un horario en donde la mayoría de las personas están durmiendo o descansando  y no se han programado para levantarse a para orar de madrugada. Pero\, también existen aquellas personas que dedican algunos momentos para orar de madrugada y así poder conversar amenamente con Dios. \n“Dios\, Dios mío eres tú; De madrugada te buscaré; Mi alma tiene sed de ti\, mi carne te anhela\, En tierra seca y árida donde no hay aguas” (Salmo 63:1).
URL:https://www.maximogil.org/events/oracion-de-madrugada-3/
LOCATION:Nuestra Iglesia\, Iglesia Cristiana Arequipa\, Cerro Colorado\, AREQUIPA\, 04017\, Perú
CATEGORIES:Eventos de Fé
ATTACH;FMTTYPE=image/webp:https://www.maximogil.org/wp-content/uploads/2022/09/GRUPODE-ORACION@2x-scaled.webp
ORGANIZER;CN="Pastor Maximo Gil":MAILTO:Pastor@maximogil.org
END:VEVENT
BEGIN:VEVENT
DTSTART;TZID=UTC:20241026T080000
DTEND;TZID=UTC:20241027T060000
DTSTAMP:20260419T130842
CREATED:20220914T150527Z
LAST-MODIFIED:20241025T044504Z
UID:23165-1729929600-1730008800@www.maximogil.org
SUMMARY:FELIZ ANIVERSARIO
DESCRIPTION:FELIZ ANIVERSARIO VIGÉSIMO TERCER.\n➡Le invitamos a usted y a toda su familia a nuestro Vigésimo tercer aniversario que llenara tu vida de gozo.\n🗓Dia : Sábado 26 de octubre del 2024\n⌚Hora: 16:00 pm – 21:00 pm. “Campaña Evangelistica “🧑‍🏫\n– concierto en vivo\n– sorteo de canastas\n– teatro y mucho más\n🗓Dia : domingo 27 de octubre del 2024\n⌚Hora: 09:00 am – 14:00 pm. “celebracion del aniversario”\n🗺Direccion: av. Aviacion n° 420 int. 6 – Cerro colorado – Arequipa\n📞Telefono: 054-384463 📲 Ministerio Ruben Diaz y Juan Carrasco Clavijo #CristoVienePronto #esperanzaenDios #Preparate
URL:https://www.maximogil.org/events/oracion-de-madrugada-2/
LOCATION:Nuestra Iglesia\, Iglesia Cristiana Arequipa\, Cerro Colorado\, AREQUIPA\, 04017\, Perú
CATEGORIES:Eventos de Fé
ATTACH;FMTTYPE=image/png:https://www.maximogil.org/wp-content/uploads/2022/09/23.png
ORGANIZER;CN="Pastor Maximo Gil":MAILTO:Pastor@maximogil.org
END:VEVENT
BEGIN:VEVENT
DTSTART;TZID=UTC:20241026T040000
DTEND;TZID=UTC:20241026T060000
DTSTAMP:20260419T130842
CREATED:20220914T144926Z
LAST-MODIFIED:20241025T002843Z
UID:23156-1729915200-1729922400@www.maximogil.org
SUMMARY:Oración de Madrugada
DESCRIPTION:EL PODER DE LA ORACIÓN EN LAS MADRUGADAS\nNormalmente\, la madrugada es un horario en donde la mayoría de las personas están durmiendo o descansando  y no se han programado para levantarse a para orar de madrugada. Pero\, también existen aquellas personas que dedican algunos momentos para orar de madrugada y así poder conversar amenamente con Dios. \n“Dios\, Dios mío eres tú; De madrugada te buscaré; Mi alma tiene sed de ti\, mi carne te anhela\, En tierra seca y árida donde no hay aguas” (Salmo 63:1).
URL:https://www.maximogil.org/events/oracion-de-madrugada-4/
LOCATION:Nuestra Iglesia\, Iglesia Cristiana Arequipa\, Cerro Colorado\, AREQUIPA\, 04017\, Perú
CATEGORIES:Eventos de Fé
ATTACH;FMTTYPE=image/webp:https://www.maximogil.org/wp-content/uploads/2022/09/GRUPODE-ORACION@2x-scaled.webp
ORGANIZER;CN="Pastor Maximo Gil":MAILTO:Pastor@maximogil.org
END:VEVENT
BEGIN:VEVENT
DTSTART;TZID=UTC:20241025T040000
DTEND;TZID=UTC:20241025T060000
DTSTAMP:20260419T130842
CREATED:20200428T132832Z
LAST-MODIFIED:20241025T002755Z
UID:23674-1729828800-1729836000@www.maximogil.org
SUMMARY:Oración de Madrugada
DESCRIPTION:EL PODER DE LA ORACIÓN EN LAS MADRUGADAS\nNormalmente\, la madrugada es un horario en donde la mayoría de las personas están durmiendo o descansando  y no se han programado para levantarse a para orar de madrugada. Pero\, también existen aquellas personas que dedican algunos momentos para orar de madrugada y así poder conversar amenamente con Dios. \n“Dios\, Dios mío eres tú; De madrugada te buscaré; Mi alma tiene sed de ti\, mi carne te anhela\, En tierra seca y árida donde no hay aguas” (Salmo 63:1).
URL:https://www.maximogil.org/events/oracion-de-madrugada-5/
LOCATION:Nuestra Iglesia\, Iglesia Cristiana Arequipa\, Cerro Colorado\, AREQUIPA\, 04017\, Perú
CATEGORIES:Eventos de Fé
ATTACH;FMTTYPE=image/webp:https://www.maximogil.org/wp-content/uploads/2022/09/GRUPODE-ORACION@2x-scaled.webp
ORGANIZER;CN="Pastor Maximo Gil":MAILTO:Pastor@maximogil.org
END:VEVENT
BEGIN:VEVENT
DTSTART;VALUE=DATE:20240405
DTEND;VALUE=DATE:20240408
DTSTAMP:20260419T130842
CREATED:20200428T140523Z
LAST-MODIFIED:20240316T141500Z
UID:23678-1712275200-1712534399@www.maximogil.org
SUMMARY:AYUNO EN EL MONTE DE DIOS
DESCRIPTION:INTERNADO EN EL MONTE TRES DIAS\nCOMIENZO CON ESTA impactante verdad porque es lo más importante que se puede decir acerca del Espíritu Santo: que Él es Dios. Plenamente Dios. El Espíritu Santo es completamente Dios\, así\ncomo el Padre es Dios y Jesús\, el Hijo\, es Dios. Sabemos que el Padre es Dios; esta es la suposición que aceptamos sin sentido crítico; es como decir que Dios es Dios. Y como cristianos igualmente creemos y confesamos que Jesús es Dios. “En el principio ya existía el Verbo\, y el Verbo estaba con Dios\, y el Verbo era Dios” (Juan 1:1). La Palabra se hizo carne (v. 14) y aun así permaneció siendo completamente Dios. Jesús fue (y es) Dios como si no fuera hombre\, y es al mismo tiempo hombre como si no fuera Dios. Dios mismo llama a Jesús Dios\, porque le dijo al Hijo: “Tu trono\, oh Dios\, permanece por los siglos de los siglos” (Hebreos 1:8).
URL:https://www.maximogil.org/events/ayuno-en-el-monte-de-dios/
LOCATION:Nuestra Iglesia\, Iglesia Cristiana Arequipa\, Cerro Colorado\, AREQUIPA\, 04017\, Perú
CATEGORIES:Eventos de Fé
ATTACH;FMTTYPE=image/png:https://www.maximogil.org/wp-content/uploads/2020/04/TRES-DIAS-DE-AYUNO.png
ORGANIZER;CN="Iglesia":MAILTO:I.F.DobleA.Ar@hotmail.com
END:VEVENT
BEGIN:VEVENT
DTSTART;TZID=UTC:20240327T040000
DTEND;TZID=UTC:20240327T060000
DTSTAMP:20260419T130842
CREATED:20220914T150932Z
LAST-MODIFIED:20240326T031252Z
UID:23167-1711512000-1711519200@www.maximogil.org
SUMMARY:Oración de Madrugada
DESCRIPTION:EL PODER DE LA ORACIÓN EN LAS MADRUGADAS\nNormalmente\, la madrugada es un horario en donde la mayoría de las personas están durmiendo o descansando  y no se han programado para levantarse a para orar de madrugada. Pero\, también existen aquellas personas que dedican algunos momentos para orar de madrugada y así poder conversar amenamente con Dios. \n“Dios\, Dios mío eres tú; De madrugada te buscaré; Mi alma tiene sed de ti\, mi carne te anhela\, En tierra seca y árida donde no hay aguas” (Salmo 63:1). \n 
URL:https://www.maximogil.org/events/oracion-de-magrugada/
LOCATION:Nuestra Iglesia\, Iglesia Cristiana Arequipa\, Cerro Colorado\, AREQUIPA\, 04017\, Perú
CATEGORIES:Eventos de Fé
ATTACH;FMTTYPE=image/webp:https://www.maximogil.org/wp-content/uploads/2022/09/GRUPODE-ORACION@2x-scaled.webp
ORGANIZER;CN="Pastor Maximo Gil":MAILTO:Pastor@maximogil.org
END:VEVENT
BEGIN:VEVENT
DTSTART;TZID=UTC:20240326T040000
DTEND;TZID=UTC:20240326T060000
DTSTAMP:20260419T130842
CREATED:20200428T132515Z
LAST-MODIFIED:20240326T031216Z
UID:23676-1711425600-1711432800@www.maximogil.org
SUMMARY:Oración de Madrugada
DESCRIPTION:EL PODER DE LA ORACIÓN EN LAS MADRUGADAS\nNormalmente\, la madrugada es un horario en donde la mayoría de las personas están durmiendo o descansando  y no se han programado para levantarse a para orar de madrugada. Pero\, también existen aquellas personas que dedican algunos momentos para orar de madrugada y así poder conversar amenamente con Dios. \n“Dios\, Dios mío eres tú; De madrugada te buscaré; Mi alma tiene sed de ti\, mi carne te anhela\, En tierra seca y árida donde no hay aguas” (Salmo 63:1).
URL:https://www.maximogil.org/events/oracion-de-madrugada-7/
LOCATION:Nuestra Iglesia\, Iglesia Cristiana Arequipa\, Cerro Colorado\, AREQUIPA\, 04017\, Perú
CATEGORIES:Eventos de Fé
ATTACH;FMTTYPE=image/webp:https://www.maximogil.org/wp-content/uploads/2022/09/GRUPODE-ORACION@2x-scaled.webp
ORGANIZER;CN="Pastor Maximo Gil":MAILTO:Pastor@maximogil.org
END:VEVENT
BEGIN:VEVENT
DTSTART;TZID=UTC:20240323T090000
DTEND;TZID=UTC:20240323T150000
DTSTAMP:20260419T130842
CREATED:20200504T180631Z
LAST-MODIFIED:20240221T232752Z
UID:23681-1711184400-1711206000@www.maximogil.org
SUMMARY:AYUNO Y ORACIÓN
DESCRIPTION:AYUNO Y ORACIÓN\nLa oración y el ayuno son una de las formas principales de desarrollar intimidad con Dios. La oración de un justo es poderosa y eficaz y el ayuno pudre yugos y nos revela el corazón y los deseos del Padre\, estas son unas de las armas principales del creyente. \nPodemos estar confiados porque Dios siempre oye la oración de aquellos que se le acercan con humildad. «Por nada estéis afanosos\, sino sean conocidas vuestras peticiones delante de Dios en toda oración y ruego\, con acción de gracias. Y la paz de Dios\, que sobrepasa todo entendimiento\, guardará vuestros corazones y vuestros pensamientos en Cristo Jesús». Filipenses 4:6-7
URL:https://www.maximogil.org/events/ayuno-y-oracion-3/
LOCATION:Nuestra Iglesia\, Iglesia Cristiana Arequipa\, Cerro Colorado\, AREQUIPA\, 04017\, Perú
CATEGORIES:Eventos de Fé
ATTACH;FMTTYPE=image/png:https://www.maximogil.org/wp-content/uploads/2020/05/AYUNO-MES-DE-MARXO.png
ORGANIZER;CN="Iglesia":MAILTO:I.F.DobleA.Ar@hotmail.com
END:VEVENT
BEGIN:VEVENT
DTSTART;TZID=UTC:20240323T040000
DTEND;TZID=UTC:20240323T060000
DTSTAMP:20260419T130842
CREATED:20200428T132425Z
LAST-MODIFIED:20240316T134743Z
UID:23672-1711166400-1711173600@www.maximogil.org
SUMMARY:Oración de Madrugada
DESCRIPTION:EL PODER DE LA ORACIÓN EN LAS MADRUGADAS\nNormalmente\, la madrugada es un horario en donde la mayoría de las personas están durmiendo o descansando  y no se han programado para levantarse a para orar de madrugada. Pero\, también existen aquellas personas que dedican algunos momentos para orar de madrugada y así poder conversar amenamente con Dios. \n“Dios\, Dios mío eres tú; De madrugada te buscaré; Mi alma tiene sed de ti\, mi carne te anhela\, En tierra seca y árida donde no hay aguas” (Salmo 63:1).
URL:https://www.maximogil.org/events/oracion-de-madrugada-6/
LOCATION:Nuestra Iglesia\, Iglesia Cristiana Arequipa\, Cerro Colorado\, AREQUIPA\, 04017\, Perú
CATEGORIES:Eventos de Fé
ATTACH;FMTTYPE=image/webp:https://www.maximogil.org/wp-content/uploads/2022/09/GRUPODE-ORACION@2x-scaled.webp
ORGANIZER;CN="Pastor Maximo Gil":MAILTO:Pastor@maximogil.org
END:VEVENT
BEGIN:VEVENT
DTSTART;TZID=UTC:20240317T100000
DTEND;TZID=UTC:20240317T130000
DTSTAMP:20260419T130842
CREATED:20200428T132928Z
LAST-MODIFIED:20240309T150941Z
UID:23675-1710669600-1710680400@www.maximogil.org
SUMMARY:Bienvenido a Casa
DESCRIPTION:SERVICIO DOMINICAL\n¡Te invitamos hacer parte de este tiempo de Enseñanza Todos los Domingo. hora: 10:00 am ; Lugar: Av. Aviación 420 Cerró Colorado\, Arequipa. Información : +51 054 38 44 63 o teléfono : +51 941 044 404.\nSi estas buscano un lugar\, en donde puedas pasar un tiempo con Dios\, pues no te equivocas al elegirnos. Todos los domingos celebramos fiesta\, por que es el primer dia de la semana\, nuestro señor jesucristo resucito venciendo la muerte
URL:https://www.maximogil.org/events/bienvenido-a-casa-2/
LOCATION:Nuestra Iglesia\, Iglesia Cristiana Arequipa\, Cerro Colorado\, AREQUIPA\, 04017\, Perú
CATEGORIES:Iglesia
ATTACH;FMTTYPE=image/png:https://www.maximogil.org/wp-content/uploads/2022/09/trabajo-domingo.png
ORGANIZER;CN="Iglesia":MAILTO:I.F.DobleA.Ar@hotmail.com
END:VEVENT
BEGIN:VEVENT
DTSTART;TZID=UTC:20240316T200000
DTEND;TZID=UTC:20240316T210000
DTSTAMP:20260419T130842
CREATED:20200428T132335Z
LAST-MODIFIED:20240316T140942Z
UID:23673-1710619200-1710622800@www.maximogil.org
SUMMARY:Escuela de Padres
DESCRIPTION:La Escuela para padres es un movimiento espiritual de restauración para padres y sus familias\, que busca poner en práctica el llamado de representar a Dios en el hogar y ser el sacerdote y líder siervo para sus esposas e hijos. \n\n\nProposito de la Escuela para padres\n\n\n\n\n\nLa Escuela para padres se fundó con el propósito de alentar a los padres del mundo a edificar familias felices y cambiar la sociedad. La escuela busca que cada padre ejerza una influencia relevante en su hogar\, cultive una masculinidad Cristocéntrica\, refleje una espiritualidad bíblica y asuma la misión del padre en su familia. \nAdemás\, la Escuela para padres se caracteriza por ser un movimiento de unidad con todos los padres del mundo\, dirigidos por el Espíritu Santo con el fin de transformar vidas y restaurar familias en la sociedad. Durante cuatro semanas\, los padres se reúnen para compartir y reflexionar sobre qué clase de padres han sido\, con el objetivo de encontrar el camino correcto para restaurar el amor y las relaciones en el hogar.
URL:https://www.maximogil.org/events/escuela-de-padres/
LOCATION:Nuestra Iglesia\, Iglesia Cristiana Arequipa\, Cerro Colorado\, AREQUIPA\, 04017\, Perú
CATEGORIES:Iglesia
ATTACH;FMTTYPE=image/jpeg:https://www.maximogil.org/wp-content/uploads/2020/04/Imagen-de-WhatsApp-2024-03-13-a-las-20.38.57_221ac03a.jpg
ORGANIZER;CN="Iglesia":MAILTO:I.F.DobleA.Ar@hotmail.com
END:VEVENT
BEGIN:VEVENT
DTSTART;TZID=UTC:20240316T090000
DTEND;TZID=UTC:20240316T150000
DTSTAMP:20260419T130842
CREATED:20200428T135330Z
LAST-MODIFIED:20240221T232451Z
UID:23677-1710579600-1710601200@www.maximogil.org
SUMMARY:AYUNO Y ORACIÓN
DESCRIPTION:AYUNO Y ORACIÓN\nLa oración y el ayuno son una de las formas principales de desarrollar intimidad con Dios. La oración de un justo es poderosa y eficaz y el ayuno pudre yugos y nos revela el corazón y los deseos del Padre\, estas son unas de las armas principales del creyente. \nPodemos estar confiados porque Dios siempre oye la oración de aquellos que se le acercan con humildad. «Por nada estéis afanosos\, sino sean conocidas vuestras peticiones delante de Dios en toda oración y ruego\, con acción de gracias. Y la paz de Dios\, que sobrepasa todo entendimiento\, guardará vuestros corazones y vuestros pensamientos en Cristo Jesús». Filipenses 4:6-7
URL:https://www.maximogil.org/events/ayuno-y-oracion-2/
LOCATION:Nuestra Iglesia\, Iglesia Cristiana Arequipa\, Cerro Colorado\, AREQUIPA\, 04017\, Perú
CATEGORIES:Iglesia
ATTACH;FMTTYPE=image/png:https://www.maximogil.org/wp-content/uploads/2020/05/AYUNO-MES-DE-MARXO.png
ORGANIZER;CN="Iglesia":MAILTO:I.F.DobleA.Ar@hotmail.com
END:VEVENT
BEGIN:VEVENT
DTSTART;TZID=UTC:20240310T100000
DTEND;TZID=UTC:20240310T130000
DTSTAMP:20260419T130842
CREATED:20220914T145828Z
LAST-MODIFIED:20240309T150905Z
UID:23162-1710064800-1710075600@www.maximogil.org
SUMMARY:Bienvenido a Casa
DESCRIPTION:SERVICIO DOMINICAL\n¡Te invitamos hacer parte de este tiempo de Enseñanza Todos los Domingo. hora: 10:00 am ; Lugar: Av. Aviación 420 Cerró Colorado\, Arequipa. Información : +51 054 38 44 63 o teléfono : +51 941 044 404.\nSi estas buscano un lugar\, en donde puedas pasar un tiempo con Dios\, pues no te equivocas al elegirnos. Todos los domingos celebramos fiesta\, por que es el primer dia de la semana\, nuestro señor jesucristo resucito venciendo la muerte
URL:https://www.maximogil.org/events/bienvenido-a-casa/
LOCATION:Nuestra Iglesia\, Iglesia Cristiana Arequipa\, Cerro Colorado\, AREQUIPA\, 04017\, Perú
CATEGORIES:Iglesia
ATTACH;FMTTYPE=image/png:https://www.maximogil.org/wp-content/uploads/2022/09/trabajo-domingo.png
ORGANIZER;CN="Iglesia":MAILTO:I.F.DobleA.Ar@hotmail.com
END:VEVENT
BEGIN:VEVENT
DTSTART;TZID=UTC:20240309T090000
DTEND;TZID=UTC:20240309T150000
DTSTAMP:20260419T130842
CREATED:20200504T180421Z
LAST-MODIFIED:20240221T232129Z
UID:23680-1709974800-1709996400@www.maximogil.org
SUMMARY:AYUNO Y ORACIÓN
DESCRIPTION:AYUNO Y ORACIÓN\nLa oración y el ayuno son una de las formas principales de desarrollar intimidad con Dios. La oración de un justo es poderosa y eficaz y el ayuno pudre yugos y nos revela el corazón y los deseos del Padre\, estas son unas de las armas principales del creyente. \nPodemos estar confiados porque Dios siempre oye la oración de aquellos que se le acercan con humildad. «Por nada estéis afanosos\, sino sean conocidas vuestras peticiones delante de Dios en toda oración y ruego\, con acción de gracias. Y la paz de Dios\, que sobrepasa todo entendimiento\, guardará vuestros corazones y vuestros pensamientos en Cristo Jesús». Filipenses 4:6-7
URL:https://www.maximogil.org/events/ayuno-y-oracion/
LOCATION:Nuestra Iglesia\, Iglesia Cristiana Arequipa\, Cerro Colorado\, AREQUIPA\, 04017\, Perú
CATEGORIES:Eventos de Fé
ATTACH;FMTTYPE=image/png:https://www.maximogil.org/wp-content/uploads/2020/05/AYUNO-MES-DE-MARXO.png
ORGANIZER;CN="Iglesia":MAILTO:I.F.DobleA.Ar@hotmail.com
END:VEVENT
END:VCALENDAR